Workbook

Sheet Cover
A1: This fee return is intended to be used alongside the 2025 Parochial Fees Table produced by the WDBF and available from https://www.cofe-worcester.org.uk/parish-support/finance/fees/
A3: Please complete the boxes the are highlighted.
A5: Year: | D5: Quarter/Month:
A7: Parish (or District):
A9: Fees for occasional offices, such as marriages and funerals are set by the National Church, and so cannot be altered by an individual PCC. These fees are divided into two parts, the amount the PCC is to keep to represent the use and access of the building, and the WDBF part to represent the costs of ministry.
A11: Within the Diocese of Worcester, 5% of the WDBF fee (rounded to the nearest £) may be retained by the PCC (or DCC) to represent the additional financial administration. Further, should the service be officiated by a minister not in receipt of a stipend, they may be entitled to payment from the WDBF fee. A breakdown of these amounts is available on the website mentioned above.
A13: FEES PAYABLE TO THE WORCESTER DIOCESAN BOARD OF FINANCE
E15: Number | G15: Fees (£) | I15: Information for this section
A16: Marriages: | E16: =Details!A22 -> 0 | G16: =Details!E22+Details!F22+Details!G22 -> 0 | I16: is drawn from the page
I17: "Details".
A18: Funerals and Burials: | E18: =Details!A37 -> 0 | G18: =Details!E37+Details!F37+Details!G37 -> 0
A20: Monuments in Churchyards: | E20: =Details!A46 -> 0 | G20: =Details!E46+Details!G46 -> 0
F22: Total DBF Fees: | G22: =G16+G18+G20 -> 0
F24: additional Administration fee: | G24: =Details!G22+Details!G37+Details!G46 -> 0
F26: fees for ministers not in receipt of a stipend: | G26: =Details!F22+Details!F37 -> 0
F28: Amount payable to the WDBF: | G28: =G22-G24-G26 -> 0
A30: Method of Payment
A31: If possible please pay via a bank transfer, this saves us bank charges and staff time.
A33: Bank transfer (Sort code 30-99-90, A/C 02974040)
A34: (Please use as the reference: Fees Month/Qtr Year Parish Code)
A36: Cheque (payable to the Worcester DBF Ltd)
A38: Name:
A39: Date: | E39: Contact:
A41: Please send the completed form (both cover and details sheets) to finance@cofe-worcester.org.uk; or via post to WDBF 16 Lowesmoor Wharf, Worcester, WR1 2RS

Sheet Details
A1: Details of fees from Occasional Offices
A3: This fee return is intended to be used alongside the 2025 Parochial Fees Table produced by the WDBF and available from https://www.cofe-worcester.org.uk/parish-support/finance/fees/
A5: Fees for occasional offices, such as marriages and funerals are set by the National Church, and so cannot be altered by an individual PCC. These fees are divided into two parts, the amount the PCC is to keep to represent the use and access of the building, and the WDBF part to represent the costs of ministry.
A7: If you have any questions please contact the Finance Team: finance@cofe-worcester.org.uk
A9: Marriages
A11: Date | B11: Surname (Groom) | C11: Minister | D11: Stipenidary (Y/N) | E11: Fee to WDBF | F11: Fee to Minister | G11: Admin Fee to PCC | H11: Fee to PCC | I11: Total Fee
I12: =E12+F12+G12+H12 -> 0
I13: =E13+F13+G13+H13 -> 0
I14: =E14+F14+G14+H14 -> 0
I15: =E15+F15+G15+H15 -> 0
I16: =E16+F16+G16+H16 -> 0
I17: =E17+F17+G17+H17 -> 0
I18: =E18+F18+G18+H18 -> 0
I19: =E19+F19+G19+H19 -> 0
I20: =E20+F20+G20+H20 -> 0
I21: =E21+F21+G21+H21 -> 0
A22: =COUNTA(A12:A21) -> 0 | D22: TOTALS | E22: =SUM(E12:E21) -> 0 | F22: =SUM(F12:F21) -> 0 | G22: =SUM(G12:G21) -> 0 | H22: =SUM(H12:H21) -> 0 | I22: =SUM(I12:I21) -> 0
A24: Funerals, burials, committals and related services
A26: Date | B26: Surname (deceased) | C26: Minister | D26: Stipenidary (Y/N) | E26: Fee to WDBF | F26: Fee to Minister | G26: Admin Fee to PCC | H26: Fee to PCC | I26: Total Fee
I27: =E27+F27+G27+H27 -> 0
I28: =E28+F28+G28+H28 -> 0
I29: =E29+F29+G29+H29 -> 0
I30: =E30+F30+G30+H30 -> 0
I31: =E31+F31+G31+H31 -> 0
I32: =E32+F32+G32+H32 -> 0
I33: =E33+F33+G33+H33 -> 0
I34: =E34+F34+G34+H34 -> 0
I35: =E35+F35+G35+H35 -> 0
I36: =E36+F36+G36+H36 -> 0
A37: =COUNTA(A27:A36) -> 0 | D37: TOTALS | E37: =SUM(E27:E36) -> 0 | F37: =SUM(F27:F36) -> 0 | G37: =SUM(G27:G36) -> 0 | H37: =SUM(H27:H36) -> 0 | I37: =SUM(I27:I36) -> 0
A39: Monuments in Churchyards
A41: Date | B41: Surname (deceased) | E41: Fee to WDBF | G41: Admin Fee to PCC | H41: Fee to PCC | I41: Total Fee
I42: =E42+F42+G42+H42 -> 0
I43: =E43+F43+G43+H43 -> 0
I44: =E44+F44+G44+H44 -> 0
I45: =E45+F45+G45+H45 -> 0
A46: =COUNTA(A42:A45) -> 0 | D46: TOTALS | E46: =SUM(E42:E45) -> 0 | F46: =SUM(F42:F45) -> 0 | G46: =SUM(G42:G45) -> 0 | H46: =SUM(H42:H45) -> 0 | I46: =SUM(I42:I45) -> 0
